BEGIN:VCALENDAR
VERSION:2.0
PRODID:-//hacksw/handcal//NONSGML v1.0//EN
BEGIN:VEVENT
DTSTAMP:20231114T183000Z
DTSTART:20231114T183000Z
DTEND:20231114T183000Z
SUMMARY:Verleihung Wirtschaftspreis WVS
END:VEVENT
END:VCALENDAR
