BEGIN:VCALENDAR
VERSION:2.0
PRODID:-//hacksw/handcal//NONSGML v1.0//EN
BEGIN:VEVENT
DTSTAMP:20231106T173000Z
DTSTART:20231106T173000Z
DTEND:20231106T173000Z
SUMMARY:Vorstandssitzung Otto-von-Bismarck-Stiftung
END:VEVENT
END:VCALENDAR
