BEGIN:VCALENDAR
VERSION:2.0
PRODID:-//hacksw/handcal//NONSGML v1.0//EN
BEGIN:VEVENT
DTSTAMP:20231020T133000Z
DTSTART:20231020T133000Z
DTEND:20231020T133000Z
SUMMARY:Preisverleihung:Bibliothek des Jahres 2023 in kleinen Kommunen und Regionen
END:VEVENT
END:VCALENDAR
