BEGIN:VCALENDAR
VERSION:2.0
PRODID:-//hacksw/handcal//NONSGML v1.0//EN
BEGIN:VEVENT
DTSTAMP:20230916T080000Z
DTSTART:20230916T080000Z
DTEND:20230916T080000Z
LOCATION:Marktplatz, Ratzeburg, Deutschland
SUMMARY:Tag des Handwerks
END:VEVENT
END:VCALENDAR
