BEGIN:VCALENDAR
VERSION:2.0
PRODID:-//hacksw/handcal//NONSGML v1.0//EN
BEGIN:VEVENT
DTSTAMP:20230928T120000Z
DTSTART:20230928T120000Z
DTEND:20230928T120000Z
SUMMARY:Sozialausschuss Landtag: "Vor-Ort-für-Dich-Kraft", "Gemeindeschwester"
END:VEVENT
END:VCALENDAR
