BEGIN:VCALENDAR
VERSION:2.0
PRODID:-//hacksw/handcal//NONSGML v1.0//EN
BEGIN:VEVENT
DTSTAMP:20230927T170000Z
DTSTART:20230927T170000Z
DTEND:20230927T170000Z
SUMMARY:Jubiläumsveranstaltung 75 Jahre SSW
END:VEVENT
END:VCALENDAR
