BEGIN:VCALENDAR
VERSION:2.0
PRODID:-//hacksw/handcal//NONSGML v1.0//EN
BEGIN:VEVENT
DTSTAMP:20230923T080000Z
DTSTART:20230923T080000Z
DTEND:20230923T080000Z
SUMMARY:Landtagspräsidentin lädt ein: Tag der Angehörigen der Bundeswehr
END:VEVENT
END:VCALENDAR
