BEGIN:VCALENDAR
VERSION:2.0
PRODID:-//hacksw/handcal//NONSGML v1.0//EN
BEGIN:VEVENT
DTSTAMP:20230921T170000Z
DTSTART:20230921T170000Z
DTEND:20230921T170000Z
SUMMARY:Parlamentarscher Grillabend: Landesfeuerwehrverband S-H
END:VEVENT
END:VCALENDAR
