BEGIN:VCALENDAR
VERSION:2.0
PRODID:-//hacksw/handcal//NONSGML v1.0//EN
BEGIN:VEVENT
DTSTAMP:20230919T163000Z
DTSTART:20230919T163000Z
DTEND:20230919T163000Z
SUMMARY:MGV Parlamentarische Gesellschaft S-H e.V. mit Sommerfest
END:VEVENT
END:VCALENDAR
