BEGIN:VCALENDAR
VERSION:2.0
PRODID:-//hacksw/handcal//NONSGML v1.0//EN
BEGIN:VEVENT
DTSTAMP:20230919T161500Z
DTSTART:20230919T161500Z
DTEND:20230919T161500Z
SUMMARY:Vorstandssitzung der Parlamentarischen Gesellschaft S-H e.V.
END:VEVENT
END:VCALENDAR
