BEGIN:VCALENDAR
VERSION:2.0
PRODID:-//hacksw/handcal//NONSGML v1.0//EN
BEGIN:VEVENT
DTSTAMP:20230918T113000Z
DTSTART:20230918T113000Z
DTEND:20230918T113000Z
SUMMARY:GAK Soziales mit Schwerpunkt Kita
END:VEVENT
END:VCALENDAR
