BEGIN:VCALENDAR
VERSION:2.0
PRODID:-//hacksw/handcal//NONSGML v1.0//EN
BEGIN:VEVENT
DTSTAMP:20230915T150000Z
DTSTART:20230915T150000Z
DTEND:20230915T150000Z
SUMMARY:Sitzung Ausschuss für die Zusammenarbeit der Länder S-H und HH
END:VEVENT
END:VCALENDAR
