BEGIN:VCALENDAR
VERSION:2.0
PRODID:-//hacksw/handcal//NONSGML v1.0//EN
BEGIN:VEVENT
DTSTAMP:20230914T060000Z
DTSTART:20230914T060000Z
DTEND:20230914T060000Z
SUMMARY:Ausfahrt mit dem Segelschulschiff "Gorch Fock"
END:VEVENT
END:VCALENDAR
