BEGIN:VCALENDAR
VERSION:2.0
PRODID:-//hacksw/handcal//NONSGML v1.0//EN
BEGIN:VEVENT
DTSTAMP:20230907T170000Z
DTSTART:20230907T170000Z
DTEND:20230907T170000Z
SUMMARY:Feierstunde "175 Jahre Schleswig-Holsteinisches Staatsgrundgesetz"
END:VEVENT
END:VCALENDAR
