BEGIN:VCALENDAR
VERSION:2.0
PRODID:-//hacksw/handcal//NONSGML v1.0//EN
BEGIN:VEVENT
DTSTAMP:20230903T100000Z
DTSTART:20230903T100000Z
DTEND:20230903T100000Z
SUMMARY:Flohmarkt Aumühle FFW
END:VEVENT
END:VCALENDAR
