BEGIN:VCALENDAR
VERSION:2.0
PRODID:-//hacksw/handcal//NONSGML v1.0//EN
BEGIN:VEVENT
DTSTAMP:20230821T070000Z
DTSTART:20230821T070000Z
DTEND:20230821T070000Z
SUMMARY:Bereisung FAK Soziales im Herzogtum Lauenburg
END:VEVENT
END:VCALENDAR
