BEGIN:VCALENDAR
VERSION:2.0
PRODID:-//hacksw/handcal//NONSGML v1.0//EN
BEGIN:VEVENT
DTSTAMP:20230823T070000Z
DTSTART:20230823T070000Z
DTEND:20230823T070000Z
SUMMARY:Bereisung FAK Soziales (ADS Kita Handewitt)
END:VEVENT
END:VCALENDAR
