BEGIN:VCALENDAR
VERSION:2.0
PRODID:-//hacksw/handcal//NONSGML v1.0//EN
BEGIN:VEVENT
DTSTAMP:20230713T110000Z
DTSTART:20230713T110000Z
DTEND:20230713T110000Z
SUMMARY:Sondersitzung Sozialausschuss Landtag
END:VEVENT
END:VCALENDAR
