BEGIN:VCALENDAR
VERSION:2.0
PRODID:-//hacksw/handcal//NONSGML v1.0//EN
BEGIN:VEVENT
DTSTAMP:20230709T130000Z
DTSTART:20230709T130000Z
DTEND:20230709T130000Z
SUMMARY:Sommerempfang Otto-von-Bismarck-Stiftung, Friedrichsruh
END:VEVENT
END:VCALENDAR
