BEGIN:VCALENDAR
VERSION:2.0
PRODID:-//hacksw/handcal//NONSGML v1.0//EN
BEGIN:VEVENT
DTSTAMP:20230624T140000Z
DTSTART:20230624T140000Z
DTEND:20230624T140000Z
SUMMARY:TuS Aumühle-Wohltorf von 1910 e.V.: Jubiläum 100
END:VEVENT
END:VCALENDAR
