BEGIN:VCALENDAR
VERSION:2.0
PRODID:-//hacksw/handcal//NONSGML v1.0//EN
BEGIN:VEVENT
DTSTAMP:20230609T170000Z
DTSTART:20230609T170000Z
DTEND:20230609T170000Z
SUMMARY:Veranstaltung für alle ausscheidenden Kreistagsabgeordneten 
END:VEVENT
END:VCALENDAR
