BEGIN:VCALENDAR
VERSION:2.0
PRODID:-//hacksw/handcal//NONSGML v1.0//EN
BEGIN:VEVENT
DTSTAMP:20230516T170000Z
DTSTART:20230516T170000Z
DTEND:20230516T170000Z
SUMMARY:CDU-Kreisvorstandssitzung
END:VEVENT
END:VCALENDAR
