BEGIN:VCALENDAR
VERSION:2.0
PRODID:-//hacksw/handcal//NONSGML v1.0//EN
BEGIN:VEVENT
DTSTAMP:20230516T120000Z
DTSTART:20230516T120000Z
DTEND:20230516T120000Z
SUMMARY:Sitzung CDU-Landtagsfraktion
END:VEVENT
END:VCALENDAR
