BEGIN:VCALENDAR
VERSION:2.0
PRODID:-//hacksw/handcal//NONSGML v1.0//EN
BEGIN:VEVENT
DTSTAMP:20230507T120000Z
DTSTART:20230507T120000Z
DTEND:20230507T120000Z
LOCATION:Kurpark, Mölln, Deutschland
SUMMARY:Kreisjugendring Herzogtum Lauenburg e.V.: HerzogTumult
END:VEVENT
END:VCALENDAR
