BEGIN:VCALENDAR
VERSION:2.0
PRODID:-//hacksw/handcal//NONSGML v1.0//EN
BEGIN:VEVENT
DTSTAMP:20230502T163000Z
DTSTART:20230502T163000Z
DTEND:20230502T163000Z
LOCATION:Am Markt, Ratzeburg, Deutschland
SUMMARY:Zentrale Wahlkampfveranstaltung mit Ministerpräsident Daniel Günther
END:VEVENT
END:VCALENDAR
