BEGIN:VCALENDAR
VERSION:2.0
PRODID:-//hacksw/handcal//NONSGML v1.0//EN
BEGIN:VEVENT
DTSTAMP:20230430T090000Z
DTSTART:20230430T090000Z
DTEND:20230430T090000Z
LOCATION:Gemeindezentrum, Escheburg, Deutschland
SUMMARY:CDU - Familienfest in Escheburg
END:VEVENT
END:VCALENDAR
