BEGIN:VCALENDAR
VERSION:2.0
PRODID:-//hacksw/handcal//NONSGML v1.0//EN
BEGIN:VEVENT
DTSTAMP:20230426T170000Z
DTSTART:20230426T170000Z
DTEND:20230426T170000Z
SUMMARY:CDU Aumühle: Veranstaltung mit dem CDU-Landesvorsitzenden Daniel Günther
END:VEVENT
END:VCALENDAR
