BEGIN:VCALENDAR
VERSION:2.0
PRODID:-//hacksw/handcal//NONSGML v1.0//EN
BEGIN:VEVENT
DTSTAMP:20230424T050000Z
DTSTART:20230424T050000Z
DTEND:20230424T063000Z
SUMMARY:Aktion zur Kommunalwahl am S-Bahnhof Aumühle
END:VEVENT
END:VCALENDAR
