BEGIN:VCALENDAR
VERSION:2.0
PRODID:-//hacksw/handcal//NONSGML v1.0//EN
BEGIN:VEVENT
DTSTAMP:20230424T075500Z
DTSTART:20230424T075500Z
DTEND:20230424T075500Z
SUMMARY:Aktion am S-Bahnhof Aumühle zur Kommunalwahl mit CDU Aumühle
END:VEVENT
END:VCALENDAR
