BEGIN:VCALENDAR
VERSION:2.0
PRODID:-//hacksw/handcal//NONSGML v1.0//EN
BEGIN:VEVENT
DTSTAMP:20230221T173000Z
DTSTART:20230221T173000Z
DTEND:20230221T173000Z
SUMMARY:Kunstausstellung der CDU-Landtagsfraktion Stina Wrede
END:VEVENT
END:VCALENDAR
