BEGIN:VCALENDAR
VERSION:2.0
PRODID:-//hacksw/handcal//NONSGML v1.0//EN
BEGIN:VEVENT
DTSTAMP:20230331T073000Z
DTSTART:20230331T073000Z
DTEND:20230331T073000Z
SUMMARY:FAK Soziales: Termin mit Minister Claus Ruhe Madsen
END:VEVENT
END:VCALENDAR
