BEGIN:VCALENDAR
VERSION:2.0
PRODID:-//hacksw/handcal//NONSGML v1.0//EN
BEGIN:VEVENT
DTSTAMP:20230308T173000Z
DTSTART:20230308T173000Z
DTEND:20230308T173000Z
SUMMARY:Landesausschuss CDU Schleswig-Holstein
END:VEVENT
END:VCALENDAR
