BEGIN:VCALENDAR
VERSION:2.0
PRODID:-//hacksw/handcal//NONSGML v1.0//EN
BEGIN:VEVENT
DTSTAMP:20230306T140000Z
DTSTART:20230306T140000Z
DTEND:20230306T140000Z
SUMMARY:Austausch mit SHGT Kreisverband Herogtum Lauenburg
END:VEVENT
END:VCALENDAR
