BEGIN:VCALENDAR
VERSION:2.0
PRODID:-//hacksw/handcal//NONSGML v1.0//EN
BEGIN:VEVENT
DTSTAMP:20230227T090000Z
DTSTART:20230227T090000Z
DTEND:20230227T090000Z
SUMMARY:Haushaltsklausurtagung der CDU-Landtagsfraktion
END:VEVENT
END:VCALENDAR
