BEGIN:VCALENDAR
VERSION:2.0
PRODID:-//hacksw/handcal//NONSGML v1.0//EN
BEGIN:VEVENT
DTSTAMP:20230223T180000Z
DTSTART:20230223T180000Z
DTEND:20230223T180000Z
SUMMARY:PGSH: Jahresauftaktveranstaltung "Ukraine, ein Jahr nach dem Angriff
END:VEVENT
END:VCALENDAR
