BEGIN:VCALENDAR
VERSION:2.0
PRODID:-//hacksw/handcal//NONSGML v1.0//EN
BEGIN:VEVENT
DTSTAMP:20230217T140000Z
DTSTART:20230217T140000Z
DTEND:20230217T140000Z
SUMMARY:Klausurtagung der CDU S-H zur Vorbereitung der KW`23
END:VEVENT
END:VCALENDAR
