BEGIN:VCALENDAR
VERSION:2.0
PRODID:-//hacksw/handcal//NONSGML v1.0//EN
BEGIN:VEVENT
DTSTAMP:20230217T110000Z
DTSTART:20230217T110000Z
DTEND:20230217T110000Z
SUMMARY:Vorbereitende Sitzung Zusammenarbeitsausschuss S-H und HH
END:VEVENT
END:VCALENDAR
