BEGIN:VCALENDAR
VERSION:2.0
PRODID:-//hacksw/handcal//NONSGML v1.0//EN
BEGIN:VEVENT
DTSTAMP:20230216T130000Z
DTSTART:20230216T130000Z
DTEND:20230216T130000Z
SUMMARY:Gemeinsame Sitzung Finanzausschuss und Sozialausschuss des Landtages
END:VEVENT
END:VCALENDAR
