BEGIN:VCALENDAR
VERSION:2.0
PRODID:-//hacksw/handcal//NONSGML v1.0//EN
BEGIN:VEVENT
DTSTAMP:20230215T173000Z
DTSTART:20230215T173000Z
DTEND:20230215T173000Z
SUMMARY:Vernetzungstreff Landtagsfraktion, Wahlkreisbüros und Kreisgeschäftsstellen
END:VEVENT
END:VCALENDAR
