BEGIN:VCALENDAR
VERSION:2.0
PRODID:-//hacksw/handcal//NONSGML v1.0//EN
BEGIN:VEVENT
DTSTAMP:20230214T130000Z
DTSTART:20230214T130000Z
DTEND:20230214T130000Z
SUMMARY:Sitzung CDU-Landtagsfraktion mit Hausspitze Sozialministerium
END:VEVENT
END:VCALENDAR
