BEGIN:VCALENDAR
VERSION:2.0
PRODID:-//hacksw/handcal//NONSGML v1.0//EN
BEGIN:VEVENT
DTSTAMP:20230210T153000Z
DTSTART:20230210T153000Z
DTEND:20230210T153000Z
SUMMARY:IGAP: Roundtable - Situation in der ambulanten Pflege
END:VEVENT
END:VCALENDAR
