BEGIN:VCALENDAR
VERSION:2.0
PRODID:-//hacksw/handcal//NONSGML v1.0//EN
BEGIN:VEVENT
DTSTAMP:20230116T131000Z
DTSTART:20230116T131000Z
DTEND:20230116T131000Z
SUMMARY:Gespräch mit IGAP (Hrn. Wendt) zum Thema Pflege
END:VEVENT
END:VCALENDAR
