BEGIN:VCALENDAR
VERSION:2.0
PRODID:-//hacksw/handcal//NONSGML v1.0//EN
BEGIN:VEVENT
DTSTAMP:20230124T090000Z
DTSTART:20230124T090000Z
DTEND:20230124T090000Z
SUMMARY:Sitzung erweiterter Fraktionsvorstand
END:VEVENT
END:VCALENDAR
