BEGIN:VCALENDAR
VERSION:2.0
PRODID:-//hacksw/handcal//NONSGML v1.0//EN
BEGIN:VEVENT
DTSTAMP:20230122T103000Z
DTSTART:20230122T103000Z
DTEND:20230122T103000Z
SUMMARY:Neujahrsempfang Gemeinde Wohltorf
END:VEVENT
END:VCALENDAR
