BEGIN:VCALENDAR
VERSION:2.0
PRODID:-//hacksw/handcal//NONSGML v1.0//EN
BEGIN:VEVENT
DTSTAMP:20221124T170000Z
DTSTART:20221124T170000Z
DTEND:20221124T170000Z
LOCATION:Landeshaus, Kiel, Deutschland
SUMMARY:Parlamentarischer Abend der BWE SH und der LEE SH
END:VEVENT
END:VCALENDAR
