BEGIN:VCALENDAR
VERSION:2.0
PRODID:-//hacksw/handcal//NONSGML v1.0//EN
BEGIN:VEVENT
DTSTAMP:20221207T130000Z
DTSTART:20221207T130000Z
DTEND:20221207T130000Z
LOCATION:Familienzentrum Regenbogen, Geesthacht, Deutschland
SUMMARY:Teilnahme an der Verleihung der Ausszeichnung FaireKITA
END:VEVENT
END:VCALENDAR
