BEGIN:VCALENDAR
VERSION:2.0
PRODID:-//hacksw/handcal//NONSGML v1.0//EN
BEGIN:VEVENT
DTSTAMP:20221209T230000Z
DTSTART:20221209T230000Z
DTEND:20221209T230000Z
SUMMARY:Weihnachtsmarkt Freiwillige Feuerwehr Schwarzenbek
END:VEVENT
END:VCALENDAR
