BEGIN:VCALENDAR
VERSION:2.0
PRODID:-//hacksw/handcal//NONSGML v1.0//EN
BEGIN:VEVENT
DTSTAMP:20221201T180000Z
DTSTART:20221201T180000Z
DTEND:20221201T180000Z
SUMMARY:MGV Vornominierung Kreistagskandidat für den Wahlkreis Wentorf/Wohltorf
END:VEVENT
END:VCALENDAR
