BEGIN:VCALENDAR
VERSION:2.0
PRODID:-//hacksw/handcal//NONSGML v1.0//EN
BEGIN:VEVENT
DTSTAMP:20221125T083000Z
DTSTART:20221125T083000Z
DTEND:20221125T083000Z
SUMMARY:Fraktionssitzung Landtagsfraktion
END:VEVENT
END:VCALENDAR
