BEGIN:VCALENDAR
VERSION:2.0
PRODID:-//hacksw/handcal//NONSGML v1.0//EN
BEGIN:VEVENT
DTSTAMP:20221123T123000Z
DTSTART:20221123T123000Z
DTEND:20221123T123000Z
SUMMARY:Konstituierende Vorstandssitzung Parlamentarische Gesellschaft S-H e.V.
END:VEVENT
END:VCALENDAR
